Package: BindingSiteFinder Version: 2.7.1 Command: F:\biocbuild\bbs-3.22-bioc\R\bin\R.exe CMD check --no-multiarch --install=check:BindingSiteFinder.install-out.txt --library=F:\biocbuild\bbs-3.22-bioc\R\library --no-vignettes --timings BindingSiteFinder_2.7.1.tar.gz StartedAt: 2025-07-22 23:44:36 -0400 (Tue, 22 Jul 2025) EndedAt: 2025-07-23 00:08:58 -0400 (Wed, 23 Jul 2025) EllapsedTime: 1461.3 seconds RetCode: 0 Status: OK CheckDir: BindingSiteFinder.Rcheck Warnings: 0