Package: BindingSiteFinder Version: 2.7.1 Command: chmod a+r BindingSiteFinder -R && F:\biocbuild\bbs-3.22-bioc\R\bin\R.exe CMD build --keep-empty-dirs --no-resave-data BindingSiteFinder StartedAt: 2025-07-22 17:36:08 -0400 (Tue, 22 Jul 2025) EndedAt: 2025-07-22 17:40:42 -0400 (Tue, 22 Jul 2025) EllapsedTime: 273.5 seconds RetCode: 0 Status: OK PackageFile: BindingSiteFinder_2.7.1.tar.gz PackageFileSize: 2.021 MiB