Package: BindingSiteFinder Version: 2.7.1 Command: rm -rf BindingSiteFinder.buildbin-libdir && mkdir BindingSiteFinder.buildbin-libdir && F:\biocbuild\bbs-3.22-bioc\R\bin\R.exe CMD INSTALL --build --library=BindingSiteFinder.buildbin-libdir BindingSiteFinder_2.7.1.tar.gz StartedAt: 2025-07-23 08:39:34 -0400 (Wed, 23 Jul 2025) EndedAt: 2025-07-23 08:44:55 -0400 (Wed, 23 Jul 2025) EllapsedTime: 321.0 seconds RetCode: 0 Status: OK PackageFile: BindingSiteFinder_2.7.1.zip PackageFileSize: 2.433 MiB