Package: BindingSiteFinder Version: 2.7.1 Command: /home/biocbuild/bbs-3.22-bioc/R/bin/R CMD check --install=check:BindingSiteFinder.install-out.txt --library=/home/biocbuild/bbs-3.22-bioc/R/site-library --timings BindingSiteFinder_2.7.1.tar.gz StartedAt: 2025-07-07 20:17:52 -0400 (Mon, 07 Jul 2025) EndedAt: 2025-07-07 20:33:55 -0400 (Mon, 07 Jul 2025) EllapsedTime: 962.3 seconds RetCode: 0 Status: OK CheckDir: BindingSiteFinder.Rcheck Warnings: 0