Package: BindingSiteFinder Version: 2.7.1 Command: /Library/Frameworks/R.framework/Resources/bin/R CMD check --install=check:BindingSiteFinder.install-out.txt --library=/Library/Frameworks/R.framework/Resources/library --no-vignettes --timings BindingSiteFinder_2.7.1.tar.gz StartedAt: 2025-07-17 18:16:57 -0400 (Thu, 17 Jul 2025) EndedAt: 2025-07-17 18:22:02 -0400 (Thu, 17 Jul 2025) EllapsedTime: 304.8 seconds RetCode: 0 Status: OK CheckDir: BindingSiteFinder.Rcheck Warnings: 0