Package: BicARE Version: 1.67.0 Command: /home/biocbuild/bbs-3.22-bioc/R/bin/R CMD INSTALL BicARE StartedAt: 2025-07-01 15:37:38 -0400 (Tue, 01 Jul 2025) EndedAt: 2025-07-01 15:37:57 -0400 (Tue, 01 Jul 2025) EllapsedTime: 18.7 seconds RetCode: 0 Status: OK