Package: BicARE Version: 1.67.0 Command: /home/biocbuild/bbs-3.22-bioc/R/bin/R CMD check --install=check:BicARE.install-out.txt --library=/home/biocbuild/bbs-3.22-bioc/R/site-library --timings BicARE_1.67.0.tar.gz StartedAt: 2025-07-01 20:18:00 -0400 (Tue, 01 Jul 2025) EndedAt: 2025-07-01 20:22:08 -0400 (Tue, 01 Jul 2025) EllapsedTime: 247.3 seconds RetCode: 0 Status: OK CheckDir: BicARE.Rcheck Warnings: 0