Package: BicARE Version: 1.67.0 Command: /home/biocbuild/bbs-3.22-bioc/R/bin/R CMD build --keep-empty-dirs --no-resave-data --md5 BicARE StartedAt: 2025-07-01 16:17:19 -0400 (Tue, 01 Jul 2025) EndedAt: 2025-07-01 16:19:29 -0400 (Tue, 01 Jul 2025) EllapsedTime: 129.1 seconds RetCode: 0 Status: OK PackageFile: BicARE_1.67.0.tar.gz PackageFileSize: 461.3 KiB