Package: BiGGR Version: 1.45.0 Command: /home/biocbuild/R/R/bin/R CMD build --keep-empty-dirs --no-resave-data BiGGR StartedAt: 2025-07-14 22:06:15 -0000 (Mon, 14 Jul 2025) EndedAt: 2025-07-14 22:06:16 -0000 (Mon, 14 Jul 2025) EllapsedTime: 1.0 seconds RetCode: 1 Status: ERROR PackageFile: None PackageFileSize: NA