############################################################################## ############################################################################## ### ### Running command: ### ### F:\biocbuild\bbs-3.22-bioc\R\bin\R.exe CMD INSTALL BiGGR ### ############################################################################## ############################################################################## * installing to library 'F:/biocbuild/bbs-3.22-bioc/R/library' ERROR: dependency 'LIM' is not available for package 'BiGGR' Perhaps try a variation of: install.packages('LIM') * removing 'F:/biocbuild/bbs-3.22-bioc/R/library/BiGGR'