############################################################################## ############################################################################## ### ### Running command: ### ### chmod a+r BiGGR -R && F:\biocbuild\bbs-3.22-bioc\R\bin\R.exe CMD build --keep-empty-dirs --no-resave-data BiGGR ### ############################################################################## ############################################################################## * checking for file 'BiGGR/DESCRIPTION' ... OK * preparing 'BiGGR': * checking DESCRIPTION meta-information ... OK * installing the package to build vignettes ----------------------------------- ERROR: dependency 'LIM' is not available for package 'BiGGR' Perhaps try a variation of: install.packages('LIM') * removing 'F:/biocbuild/bbs-3.22-bioc/tmpdir/RtmpOAJsdw/Rinst144e06847719/BiGGR' ----------------------------------- ERROR: package installation failed