############################################################################## ############################################################################## ### ### Running command: ### ### /home/biocbuild/bbs-3.22-bioc/R/bin/R CMD INSTALL BiGGR ### ############################################################################## ############################################################################## * installing to library ‘/home/biocbuild/bbs-3.22-bioc/R/site-library’ ERROR: dependency ‘LIM’ is not available for package ‘BiGGR’ Perhaps try a variation of: install.packages('LIM') * removing ‘/home/biocbuild/bbs-3.22-bioc/R/site-library/BiGGR’