Package: BiFET Version: 1.29.1 Command: F:\biocbuild\bbs-3.22-bioc\R\bin\R.exe CMD check --no-multiarch --install=check:BiFET.install-out.txt --library=F:\biocbuild\bbs-3.22-bioc\R\library --no-vignettes --timings BiFET_1.29.1.tar.gz StartedAt: 2025-06-29 23:36:56 -0400 (Sun, 29 Jun 2025) EndedAt: 2025-06-29 23:42:07 -0400 (Sun, 29 Jun 2025) EllapsedTime: 310.7 seconds RetCode: 0 Status: OK CheckDir: BiFET.Rcheck Warnings: 0