Package: BgeeDB Version: 2.35.0 Command: /home/biocbuild/R/R/bin/R CMD INSTALL BgeeDB StartedAt: 2025-07-07 20:53:00 -0000 (Mon, 07 Jul 2025) EndedAt: 2025-07-07 20:53:47 -0000 (Mon, 07 Jul 2025) EllapsedTime: 46.5 seconds RetCode: 0 Status: OK