Package: BgeeDB Version: 2.35.0 Command: /home/biocbuild/R/R/bin/R CMD check --install=check:BgeeDB.install-out.txt --library=/home/biocbuild/R/R/site-library --no-vignettes --timings BgeeDB_2.35.0.tar.gz StartedAt: 2025-07-08 04:25:12 -0000 (Tue, 08 Jul 2025) EndedAt: 2025-07-08 04:44:06 -0000 (Tue, 08 Jul 2025) EllapsedTime: 1134.3 seconds RetCode: 1 Status: ERROR CheckDir: BgeeDB.Rcheck Warnings: NA