Package: BgeeDB Version: 2.35.0 Command: /home/biocbuild/R/R/bin/R CMD build --keep-empty-dirs --no-resave-data BgeeDB StartedAt: 2025-07-07 21:53:59 -0000 (Mon, 07 Jul 2025) EndedAt: 2025-07-07 22:05:21 -0000 (Mon, 07 Jul 2025) EllapsedTime: 681.2 seconds RetCode: 0 Status: OK PackageFile: BgeeDB_2.35.0.tar.gz PackageFileSize: 107.4 KiB