Package: BgeeDB Version: 2.35.0 Command: F:\biocbuild\bbs-3.22-bioc\R\bin\R.exe CMD INSTALL BgeeDB StartedAt: 2025-07-24 16:44:11 -0400 (Thu, 24 Jul 2025) EndedAt: 2025-07-24 16:45:03 -0400 (Thu, 24 Jul 2025) EllapsedTime: 51.3 seconds RetCode: 0 Status: OK