Package: BgeeDB Version: 2.35.0 Command: chmod a+r BgeeDB -R && F:\biocbuild\bbs-3.22-bioc\R\bin\R.exe CMD build --keep-empty-dirs --no-resave-data BgeeDB StartedAt: 2025-07-24 17:43:30 -0400 (Thu, 24 Jul 2025) EndedAt: 2025-07-24 17:48:55 -0400 (Thu, 24 Jul 2025) EllapsedTime: 325.8 seconds RetCode: 0 Status: OK PackageFile: BgeeDB_2.35.0.tar.gz PackageFileSize: 106.9 KiB