Package: BgeeDB Version: 2.35.0 Command: rm -rf BgeeDB.buildbin-libdir && mkdir BgeeDB.buildbin-libdir && F:\biocbuild\bbs-3.22-bioc\R\bin\R.exe CMD INSTALL --build --library=BgeeDB.buildbin-libdir BgeeDB_2.35.0.tar.gz StartedAt: 2025-07-25 08:46:50 -0400 (Fri, 25 Jul 2025) EndedAt: 2025-07-25 08:47:44 -0400 (Fri, 25 Jul 2025) EllapsedTime: 54.0 seconds RetCode: 0 Status: OK PackageFile: BgeeDB_2.35.0.zip PackageFileSize: 372.1 KiB