Package: BgeeDB Version: 2.35.0 Command: /Library/Frameworks/R.framework/Resources/bin/R CMD INSTALL BgeeDB StartedAt: 2025-07-14 15:19:49 -0400 (Mon, 14 Jul 2025) EndedAt: 2025-07-14 15:20:04 -0400 (Mon, 14 Jul 2025) EllapsedTime: 15.8 seconds RetCode: 0 Status: OK