Package: BgeeDB Version: 2.35.0 Command: /Library/Frameworks/R.framework/Resources/bin/R CMD check --install=check:BgeeDB.install-out.txt --library=/Library/Frameworks/R.framework/Resources/library --no-vignettes --timings BgeeDB_2.35.0.tar.gz StartedAt: 2025-07-14 18:12:39 -0400 (Mon, 14 Jul 2025) EndedAt: 2025-07-14 18:19:23 -0400 (Mon, 14 Jul 2025) EllapsedTime: 403.6 seconds RetCode: 0 Status: OK CheckDir: BgeeDB.Rcheck Warnings: 0