Package: BayesSpace Version: 1.19.3 Command: /home/biocbuild/R/R/bin/R CMD check --install=check:BayesSpace.install-out.txt --library=/home/biocbuild/R/R/site-library --no-vignettes --timings BayesSpace_1.19.3.tar.gz StartedAt: 2025-07-11 05:33:17 -0000 (Fri, 11 Jul 2025) EndedAt: 2025-07-11 05:41:48 -0000 (Fri, 11 Jul 2025) EllapsedTime: 511.2 seconds RetCode: 1 Status: ERROR CheckDir: BayesSpace.Rcheck Warnings: NA