Package: BayesSpace Version: 1.19.4 Command: F:\biocbuild\bbs-3.22-bioc\R\bin\R.exe CMD INSTALL BayesSpace StartedAt: 2025-07-24 17:04:33 -0400 (Thu, 24 Jul 2025) EndedAt: 2025-07-24 17:09:13 -0400 (Thu, 24 Jul 2025) EllapsedTime: 279.6 seconds RetCode: 0 Status: OK