Package: BayesSpace Version: 1.19.4 Command: rm -rf BayesSpace.buildbin-libdir && mkdir BayesSpace.buildbin-libdir && F:\biocbuild\bbs-3.22-bioc\R\bin\R.exe CMD INSTALL --build --library=BayesSpace.buildbin-libdir BayesSpace_1.19.4.tar.gz StartedAt: 2025-07-25 08:45:57 -0400 (Fri, 25 Jul 2025) EndedAt: 2025-07-25 08:47:47 -0400 (Fri, 25 Jul 2025) EllapsedTime: 109.8 seconds RetCode: 0 Status: OK PackageFile: BayesSpace_1.19.4.zip PackageFileSize: 3.5 MiB