Package: BayesSpace Version: 1.19.3 Command: /home/biocbuild/bbs-3.22-bioc/R/bin/R CMD INSTALL BayesSpace StartedAt: 2025-06-29 15:57:14 -0400 (Sun, 29 Jun 2025) EndedAt: 2025-06-29 15:58:22 -0400 (Sun, 29 Jun 2025) EllapsedTime: 68.4 seconds RetCode: 0 Status: OK