Package: BayesSpace Version: 1.19.3 Command: /home/biocbuild/bbs-3.22-bioc/R/bin/R CMD check --install=check:BayesSpace.install-out.txt --library=/home/biocbuild/bbs-3.22-bioc/R/site-library --timings BayesSpace_1.19.3.tar.gz StartedAt: 2025-06-29 20:11:22 -0400 (Sun, 29 Jun 2025) EndedAt: 2025-06-29 20:17:13 -0400 (Sun, 29 Jun 2025) EllapsedTime: 351.0 seconds RetCode: 0 Status: OK CheckDir: BayesSpace.Rcheck Warnings: 0