Package: BayesSpace Version: 1.19.3 Command: /home/biocbuild/bbs-3.22-bioc/R/bin/R CMD build --keep-empty-dirs --no-resave-data --md5 BayesSpace StartedAt: 2025-06-29 16:16:03 -0400 (Sun, 29 Jun 2025) EndedAt: 2025-06-29 16:18:41 -0400 (Sun, 29 Jun 2025) EllapsedTime: 158.1 seconds RetCode: 0 Status: OK PackageFile: BayesSpace_1.19.3.tar.gz PackageFileSize: 1.248 MiB