Package: BayesSpace Version: 1.19.4 Command: /Library/Frameworks/R.framework/Resources/bin/R CMD INSTALL BayesSpace StartedAt: 2025-07-20 15:29:50 -0400 (Sun, 20 Jul 2025) EndedAt: 2025-07-20 15:30:14 -0400 (Sun, 20 Jul 2025) EllapsedTime: 23.9 seconds RetCode: 0 Status: OK