Package: BayesSpace Version: 1.19.4 Command: /Library/Frameworks/R.framework/Resources/bin/R CMD build --keep-empty-dirs --no-resave-data BayesSpace StartedAt: 2025-07-20 15:40:55 -0400 (Sun, 20 Jul 2025) EndedAt: 2025-07-20 15:41:54 -0400 (Sun, 20 Jul 2025) EllapsedTime: 58.6 seconds RetCode: 0 Status: OK PackageFile: BayesSpace_1.19.4.tar.gz PackageFileSize: 3.477 MiB