Package: BayesSpace Version: 1.19.4 Command: rm -rf BayesSpace.buildbin-libdir && mkdir BayesSpace.buildbin-libdir && /Users/biocbuild/BBS/utils/build-universal.sh BayesSpace_1.19.4.tar.gz /Library/Frameworks/R.framework/Resources/bin/R BayesSpace.buildbin-libdir StartedAt: 2025-07-20 22:18:11 -0400 (Sun, 20 Jul 2025) EndedAt: 2025-07-20 22:18:37 -0400 (Sun, 20 Jul 2025) EllapsedTime: 26.5 seconds RetCode: 0 Status: OK PackageFile: BayesSpace_1.19.4.tgz PackageFileSize: 3.773 MiB