Package: BayesKnockdown Version: 1.35.0 Command: /home/biocbuild/R/R/bin/R CMD build --keep-empty-dirs --no-resave-data BayesKnockdown StartedAt: 2025-07-17 21:50:59 -0000 (Thu, 17 Jul 2025) EndedAt: 2025-07-17 21:51:06 -0000 (Thu, 17 Jul 2025) EllapsedTime: 7.0 seconds RetCode: 0 Status: OK PackageFile: BayesKnockdown_1.35.0.tar.gz PackageFileSize: 204.7 KiB