Package: BayesKnockdown Version: 1.35.0 Command: F:\biocbuild\bbs-3.22-bioc\R\bin\R.exe CMD check --no-multiarch --install=check:BayesKnockdown.install-out.txt --library=F:\biocbuild\bbs-3.22-bioc\R\library --no-vignettes --timings BayesKnockdown_1.35.0.tar.gz StartedAt: 2025-07-11 23:30:36 -0400 (Fri, 11 Jul 2025) EndedAt: 2025-07-11 23:31:10 -0400 (Fri, 11 Jul 2025) EllapsedTime: 34.1 seconds RetCode: 0 Status: OK CheckDir: BayesKnockdown.Rcheck Warnings: 0