Package: BayesKnockdown Version: 1.35.0 Command: /home/biocbuild/bbs-3.22-bioc/R/bin/R CMD INSTALL BayesKnockdown StartedAt: 2025-07-01 15:11:23 -0400 (Tue, 01 Jul 2025) EndedAt: 2025-07-01 15:11:25 -0400 (Tue, 01 Jul 2025) EllapsedTime: 2.2 seconds RetCode: 0 Status: OK