Package: BayesKnockdown Version: 1.35.0 Command: /home/biocbuild/bbs-3.22-bioc/R/bin/R CMD check --install=check:BayesKnockdown.install-out.txt --library=/home/biocbuild/bbs-3.22-bioc/R/site-library --timings BayesKnockdown_1.35.0.tar.gz StartedAt: 2025-07-01 20:11:51 -0400 (Tue, 01 Jul 2025) EndedAt: 2025-07-01 20:12:16 -0400 (Tue, 01 Jul 2025) EllapsedTime: 25.0 seconds RetCode: 0 Status: OK CheckDir: BayesKnockdown.Rcheck Warnings: 0