Package: BayesKnockdown Version: 1.35.0 Command: /home/biocbuild/bbs-3.22-bioc/R/bin/R CMD build --keep-empty-dirs --no-resave-data --md5 BayesKnockdown StartedAt: 2025-07-01 16:13:07 -0400 (Tue, 01 Jul 2025) EndedAt: 2025-07-01 16:13:14 -0400 (Tue, 01 Jul 2025) EllapsedTime: 7.0 seconds RetCode: 0 Status: OK PackageFile: BayesKnockdown_1.35.0.tar.gz PackageFileSize: 212.3 KiB