Package: BayesKnockdown Version: 1.35.0 Command: /Library/Frameworks/R.framework/Resources/bin/R CMD check --install=check:BayesKnockdown.install-out.txt --library=/Library/Frameworks/R.framework/Resources/library --no-vignettes --timings BayesKnockdown_1.35.0.tar.gz StartedAt: 2025-07-01 19:19:21 -0400 (Tue, 01 Jul 2025) EndedAt: 2025-07-01 19:19:53 -0400 (Tue, 01 Jul 2025) EllapsedTime: 31.8 seconds RetCode: 0 Status: OK CheckDir: BayesKnockdown.Rcheck Warnings: 0