Package: BayesKnockdown Version: 1.35.0 Command: rm -rf BayesKnockdown.buildbin-libdir && mkdir BayesKnockdown.buildbin-libdir && /Users/biocbuild/BBS/utils/build-universal.sh BayesKnockdown_1.35.0.tar.gz /Library/Frameworks/R.framework/Resources/bin/R BayesKnockdown.buildbin-libdir StartedAt: 2025-07-02 00:46:45 -0400 (Wed, 02 Jul 2025) EndedAt: 2025-07-02 00:46:51 -0400 (Wed, 02 Jul 2025) EllapsedTime: 5.8 seconds RetCode: 0 Status: OK PackageFile: BayesKnockdown_1.35.0.tgz PackageFileSize: 225.9 KiB