Package: BatchSVG Version: 1.1.0 Command: /home/biocbuild/R/R/bin/R CMD INSTALL BatchSVG StartedAt: 2025-06-26 21:16:30 -0000 (Thu, 26 Jun 2025) EndedAt: 2025-06-26 21:17:03 -0000 (Thu, 26 Jun 2025) EllapsedTime: 33.8 seconds RetCode: 0 Status: OK