Package: BatchSVG Version: 1.1.0 Command: /home/biocbuild/R/R/bin/R CMD build --keep-empty-dirs --no-resave-data BatchSVG StartedAt: 2025-06-26 21:51:18 -0000 (Thu, 26 Jun 2025) EndedAt: 2025-06-26 22:06:57 -0000 (Thu, 26 Jun 2025) EllapsedTime: 939.2 seconds RetCode: 0 Status: OK PackageFile: BatchSVG_1.1.0.tar.gz PackageFileSize: 1.04 MiB