Package: BatchSVG Version: 1.1.0 Command: F:\biocbuild\bbs-3.22-bioc\R\bin\R.exe CMD check --no-multiarch --install=check:BatchSVG.install-out.txt --library=F:\biocbuild\bbs-3.22-bioc\R\library --no-vignettes --timings BatchSVG_1.1.0.tar.gz StartedAt: 2025-07-21 23:36:16 -0400 (Mon, 21 Jul 2025) EndedAt: 2025-07-21 23:45:30 -0400 (Mon, 21 Jul 2025) EllapsedTime: 554.0 seconds RetCode: 0 Status: OK CheckDir: BatchSVG.Rcheck Warnings: 0