Package: BatchSVG Version: 1.1.0 Command: /Library/Frameworks/R.framework/Resources/bin/R CMD check --install=check:BatchSVG.install-out.txt --library=/Library/Frameworks/R.framework/Resources/library --no-vignettes --timings BatchSVG_1.1.0.tar.gz StartedAt: 2025-07-07 18:08:08 -0400 (Mon, 07 Jul 2025) EndedAt: 2025-07-07 18:10:45 -0400 (Mon, 07 Jul 2025) EllapsedTime: 157.0 seconds RetCode: 0 Status: OK CheckDir: BatchSVG.Rcheck Warnings: 0