Package: BatchSVG Version: 1.1.0 Command: /Library/Frameworks/R.framework/Resources/bin/R CMD build --keep-empty-dirs --no-resave-data BatchSVG StartedAt: 2025-07-07 15:39:33 -0400 (Mon, 07 Jul 2025) EndedAt: 2025-07-07 15:40:38 -0400 (Mon, 07 Jul 2025) EllapsedTime: 65.7 seconds RetCode: 0 Status: OK PackageFile: BatchSVG_1.1.0.tar.gz PackageFileSize: 1.689 MiB