Package: BatchQC Version: 2.5.0 Command: F:\biocbuild\bbs-3.22-bioc\R\bin\R.exe CMD INSTALL BatchQC StartedAt: 2025-07-14 16:54:37 -0400 (Mon, 14 Jul 2025) EndedAt: 2025-07-14 16:55:40 -0400 (Mon, 14 Jul 2025) EllapsedTime: 63.2 seconds RetCode: 0 Status: OK