Package: BatchQC Version: 2.5.0 Command: chmod a+r BatchQC -R && F:\biocbuild\bbs-3.22-bioc\R\bin\R.exe CMD build --keep-empty-dirs --no-resave-data BatchQC StartedAt: 2025-07-14 17:28:12 -0400 (Mon, 14 Jul 2025) EndedAt: 2025-07-14 17:30:04 -0400 (Mon, 14 Jul 2025) EllapsedTime: 112.0 seconds RetCode: 0 Status: OK PackageFile: BatchQC_2.5.0.tar.gz PackageFileSize: 2.792 MiB