Package: BatchQC Version: 2.5.0 Command: /Library/Frameworks/R.framework/Resources/bin/R CMD INSTALL BatchQC StartedAt: 2025-06-29 15:28:58 -0400 (Sun, 29 Jun 2025) EndedAt: 2025-06-29 15:29:13 -0400 (Sun, 29 Jun 2025) EllapsedTime: 14.4 seconds RetCode: 0 Status: OK