Package: BatchQC Version: 2.5.0 Command: /Library/Frameworks/R.framework/Resources/bin/R CMD check --install=check:BatchQC.install-out.txt --library=/Library/Frameworks/R.framework/Resources/library --no-vignettes --timings BatchQC_2.5.0.tar.gz StartedAt: 2025-06-29 18:10:44 -0400 (Sun, 29 Jun 2025) EndedAt: 2025-06-29 18:13:16 -0400 (Sun, 29 Jun 2025) EllapsedTime: 151.9 seconds RetCode: 0 Status: OK CheckDir: BatchQC.Rcheck Warnings: 0