Package: BatchQC Version: 2.5.0 Command: rm -rf BatchQC.buildbin-libdir && mkdir BatchQC.buildbin-libdir && /Users/biocbuild/BBS/utils/build-universal.sh BatchQC_2.5.0.tar.gz /Library/Frameworks/R.framework/Resources/bin/R BatchQC.buildbin-libdir StartedAt: 2025-06-29 22:10:29 -0400 (Sun, 29 Jun 2025) EndedAt: 2025-06-29 22:10:45 -0400 (Sun, 29 Jun 2025) EllapsedTime: 16.3 seconds RetCode: 0 Status: OK PackageFile: BatchQC_2.5.0.tgz PackageFileSize: 3.811 MiB