Package: Banksy Version: 1.5.6 Command: F:\biocbuild\bbs-3.22-bioc\R\bin\R.exe CMD INSTALL Banksy StartedAt: 2025-07-20 16:36:39 -0400 (Sun, 20 Jul 2025) EndedAt: 2025-07-20 16:37:14 -0400 (Sun, 20 Jul 2025) EllapsedTime: 35.5 seconds RetCode: 0 Status: OK