Package: Banksy Version: 1.5.6 Command: F:\biocbuild\bbs-3.22-bioc\R\bin\R.exe CMD check --no-multiarch --install=check:Banksy.install-out.txt --library=F:\biocbuild\bbs-3.22-bioc\R\library --no-vignettes --timings Banksy_1.5.6.tar.gz StartedAt: 2025-07-20 23:28:52 -0400 (Sun, 20 Jul 2025) EndedAt: 2025-07-20 23:33:13 -0400 (Sun, 20 Jul 2025) EllapsedTime: 260.6 seconds RetCode: 0 Status: OK CheckDir: Banksy.Rcheck Warnings: 0