Package: Banksy Version: 1.5.6 Command: chmod a+r Banksy -R && F:\biocbuild\bbs-3.22-bioc\R\bin\R.exe CMD build --keep-empty-dirs --no-resave-data Banksy StartedAt: 2025-07-20 17:25:20 -0400 (Sun, 20 Jul 2025) EndedAt: 2025-07-20 17:35:40 -0400 (Sun, 20 Jul 2025) EllapsedTime: 620.6 seconds RetCode: 0 Status: OK PackageFile: Banksy_1.5.6.tar.gz PackageFileSize: 4.171 MiB